BEGIN:VCALENDAR
VERSION:2.0
PRODID:-//Texas Consumer &amp; Commercial Law - ECPv6.15.18//NONSGML v1.0//EN
CALSCALE:GREGORIAN
METHOD:PUBLISH
X-WR-CALNAME:Texas Consumer &amp; Commercial Law
X-ORIGINAL-URL:https://txconsumerlawyers.org
X-WR-CALDESC:Events for Texas Consumer &amp; Commercial Law
REFRESH-INTERVAL;VALUE=DURATION:PT1H
X-Robots-Tag:noindex
X-PUBLISHED-TTL:PT1H
BEGIN:VTIMEZONE
TZID:America/Chicago
BEGIN:DAYLIGHT
TZOFFSETFROM:-0600
TZOFFSETTO:-0500
TZNAME:CDT
DTSTART:20240310T080000
END:DAYLIGHT
BEGIN:STANDARD
TZOFFSETFROM:-0500
TZOFFSETTO:-0600
TZNAME:CST
DTSTART:20241103T070000
END:STANDARD
BEGIN:DAYLIGHT
TZOFFSETFROM:-0600
TZOFFSETTO:-0500
TZNAME:CDT
DTSTART:20250309T080000
END:DAYLIGHT
BEGIN:STANDARD
TZOFFSETFROM:-0500
TZOFFSETTO:-0600
TZNAME:CST
DTSTART:20251102T070000
END:STANDARD
BEGIN:DAYLIGHT
TZOFFSETFROM:-0600
TZOFFSETTO:-0500
TZNAME:CDT
DTSTART:20260308T080000
END:DAYLIGHT
BEGIN:STANDARD
TZOFFSETFROM:-0500
TZOFFSETTO:-0600
TZNAME:CST
DTSTART:20261101T070000
END:STANDARD
END:VTIMEZONE
BEGIN:VEVENT
DTSTART;TZID=America/Chicago:20251113T130000
DTEND;TZID=America/Chicago:20251113T170000
DTSTAMP:20260421T083632
CREATED:20251110T235840Z
LAST-MODIFIED:20251110T235957Z
UID:2805-1763038800-1763053200@txconsumerlawyers.org
SUMMARY:Dallas Insurance Law Symposium: An Introduction to Insurance Law
DESCRIPTION:Ever considered insurance law? Calling all law students and young lawyers! \n\n\n\nEnjoy drinks and snacks and learn about the following topics: \n\n\n\n\nHow to read an insurance policy\n\n\n\nUnderstanding first-party claims\n\n\n\nUnderstanding third-party liability and additional insured coverage\n\n\n\nEthics of the tripartite relationship\n\n\n\n\nFREE attendance\, but space is limited! RSVP at the link below. \n\n\n\nCome network with insurance industry professionals and broaden your horizons! \n\n\n\nPresented by:Dallas Insurance Law American Inn of CourtConsumer & Commercial Law – State Bar of Texas
URL:https://txconsumerlawyers.org/event/dallas-insurance-law-symposiuman-introduction-to-insurance-law/
LOCATION:Haynes & Boone\, 2801 N Harwood St\, Suite 2300\, Dallas\, Texas\, 75201\, United States
END:VEVENT
END:VCALENDAR